BEGIN:VCALENDAR
VERSION:2.0
PRODID:-//wp-events-plugin.com//6.4.6.1//EN
BEGIN:VEVENT
UID:2@khabexpo.ru
DTSTART;VALUE=DATE:20231115
DTEND;VALUE=DATE:20231116
DTSTAMP:20231218T040630Z
URL:https://khabexpo.ru/events/%d1%81%d0%bf%d0%b5%d1%86%d0%b8%d0%b0%d0%bb%
 d0%b8%d0%b7%d0%b8%d1%80%d0%be%d0%b2%d0%b0%d0%bd%d0%bd%d1%8b%d0%b5-%d0%b2%d
 1%8b%d1%81%d1%82%d0%b0%d0%b2%d0%ba%d0%b8-%d0%b2-%d1%85%d0%b0%d0%b1%d0%b0%d
 1%80/
SUMMARY:Специализированные выставки в Хабар
 овске
DESCRIPTION:Дан старт специализированным  выс
 тавкам «Архитектура\, стройиндустрия Да
 льневосточного региона»\, «Энергетика Д
 альнего Востока. Автоматизация. Безопас
 ностью Связь»\, «ТЕХНОДРЕВ Дальний Восто
 к»\, ТРАНСПОРТ. Техника. Сервис. Перевозк
 и». Выставки состояться 16-18 мая 2024 года. М
 есто проведения: Арена «Ерофей».
ATTACH;FMTTYPE=image/jpeg:https://khabexpo.ru/wp-content/uploads/2023/12/
 овость2.webp
CATEGORIES:News
END:VEVENT
END:VCALENDAR