BEGIN:VCALENDAR
VERSION:2.0
PRODID:-//wp-events-plugin.com//6.4.6.1//EN
BEGIN:VEVENT
UID:4@khabexpo.ru
DTSTART;VALUE=DATE:20231209
DTEND;VALUE=DATE:20231210
DTSTAMP:20240115T035532Z
URL:https://khabexpo.ru/events/%d0%b2%d1%81%d1%82%d1%80%d0%b5%d1%87%d0%b0-
 %d1%81-%d0%bf%d0%b5%d1%80%d0%b2%d1%8b%d0%bc-%d0%b7%d0%b0%d0%bc%d0%b5%d1%81
 %d1%82%d0%b8%d1%82%d0%b5%d0%bb%d0%b5%d0%bc-%d0%bf%d1%80%d0%b5%d0%b4%d1%81%
 d0%b5/
SUMMARY:Встреча с первым заместителем Предс
 едателя Правительства Края
DESCRIPTION:Состоялся бизнес-завтрак женщин-п
 редпринимателей Хабаровской ОПОРЫ РОСС
 ИИ с первым заместителем Председателя П
 равительства Края Авиловой Марией Юрьев
 ной.
ATTACH;FMTTYPE=image/jpeg:https://khabexpo.ru/wp-content/uploads/2024/01/p
 hoto1704774327.jpeg
CATEGORIES:News
END:VEVENT
END:VCALENDAR